Package: condiments Version: 1.14.0 Command: /home/biocbuild/bbs-3.20-bioc/R/bin/R CMD check --install=check:condiments.install-out.txt --library=/home/biocbuild/bbs-3.20-bioc/R/site-library --timings condiments_1.14.0.tar.gz StartedAt: 2025-02-03 21:15:00 -0500 (Mon, 03 Feb 2025) EndedAt: 2025-02-03 21:24:31 -0500 (Mon, 03 Feb 2025) EllapsedTime: 570.5 seconds RetCode: 0 Status: OK CheckDir: condiments.Rcheck Warnings: 0