Package: condiments Version: 1.14.0 Command: rm -rf condiments.buildbin-libdir && mkdir condiments.buildbin-libdir && F:\biocbuild\bbs-3.20-bioc\R\bin\R.exe CMD INSTALL --build --library=condiments.buildbin-libdir condiments_1.14.0.tar.gz StartedAt: 2025-02-04 08:15:43 -0500 (Tue, 04 Feb 2025) EndedAt: 2025-02-04 08:16:37 -0500 (Tue, 04 Feb 2025) EllapsedTime: 53.7 seconds RetCode: 0 Status: OK PackageFile: condiments_1.14.0.zip PackageFileSize: 1.234 MiB