Package: condiments Version: 1.14.0 Command: /home/biocbuild/R/R/bin/R CMD INSTALL condiments StartedAt: 2025-02-03 21:18:23 -0000 (Mon, 03 Feb 2025) EndedAt: 2025-02-03 21:19:06 -0000 (Mon, 03 Feb 2025) EllapsedTime: 42.8 seconds RetCode: 0 Status: OK