Package: consensus Version: 1.24.0 Command: /Library/Frameworks/R.framework/Resources/bin/R CMD INSTALL consensus StartedAt: 2025-02-17 15:14:42 -0500 (Mon, 17 Feb 2025) EndedAt: 2025-02-17 15:14:49 -0500 (Mon, 17 Feb 2025) EllapsedTime: 6.4 seconds RetCode: 0 Status: OK