Package: consensus
Version: 1.24.0
Command: /Library/Frameworks/R.framework/Resources/bin/R CMD check --install=check:consensus.install-out.txt --library=/Library/Frameworks/R.framework/Resources/library --no-vignettes --timings consensus_1.24.0.tar.gz
StartedAt: 2024-11-08 23:32:47 -0500 (Fri, 08 Nov 2024)
EndedAt: 2024-11-08 23:36:42 -0500 (Fri, 08 Nov 2024)
EllapsedTime: 234.2 seconds
RetCode: 0
Status: OK
CheckDir: consensus.Rcheck
Warnings: 0