Package: consensusDE
Version: 1.24.0
Command: rm -rf consensusDE.buildbin-libdir && mkdir consensusDE.buildbin-libdir && /Users/biocbuild/BBS/utils/build-universal.sh consensusDE_1.24.0.tar.gz /Library/Frameworks/R.framework/Resources/bin/R consensusDE.buildbin-libdir
StartedAt: 2024-11-20 04:20:48 -0500 (Wed, 20 Nov 2024)
EndedAt: 2024-11-20 04:21:58 -0500 (Wed, 20 Nov 2024)
EllapsedTime: 70.1 seconds
RetCode: 0
Status: OK
PackageFile: consensusDE_1.24.0.tgz
PackageFileSize: 1.115 <A href="http://en.wikipedia.org/wiki/MiB" target="_blank">MiB</A>