Package: consensusDE Version: 1.24.0 Command: /Library/Frameworks/R.framework/Resources/bin/R CMD check --install=check:consensusDE.install-out.txt --library=/Library/Frameworks/R.framework/Resources/library --no-vignettes --timings consensusDE_1.24.0.tar.gz StartedAt: 2025-02-04 01:43:38 -0500 (Tue, 04 Feb 2025) EndedAt: 2025-02-04 01:55:24 -0500 (Tue, 04 Feb 2025) EllapsedTime: 706.1 seconds RetCode: 0 Status: OK CheckDir: consensusDE.Rcheck Warnings: 0