Package: consensusDE Version: 1.24.0 Command: /home/biocbuild/R/R/bin/R CMD INSTALL consensusDE StartedAt: 2025-02-03 20:51:52 -0000 (Mon, 03 Feb 2025) EndedAt: 2025-02-03 20:52:48 -0000 (Mon, 03 Feb 2025) EllapsedTime: 56.4 seconds RetCode: 0 Status: OK