Package: consensusOV Version: 1.28.0 Command: /Library/Frameworks/R.framework/Resources/bin/R CMD build --keep-empty-dirs --no-resave-data consensusOV StartedAt: 2025-02-10 17:59:22 -0500 (Mon, 10 Feb 2025) EndedAt: 2025-02-10 18:03:55 -0500 (Mon, 10 Feb 2025) EllapsedTime: 273.8 seconds RetCode: 0 Status: OK PackageFile: consensusOV_1.28.0.tar.gz PackageFileSize: 3.21 MiB