Package: consensusOV Version: 1.28.0 Command: /Library/Frameworks/R.framework/Resources/bin/R CMD INSTALL consensusOV StartedAt: 2025-02-03 16:50:47 -0500 (Mon, 03 Feb 2025) EndedAt: 2025-02-03 16:52:24 -0500 (Mon, 03 Feb 2025) EllapsedTime: 97.3 seconds RetCode: 0 Status: OK