Package: consensusOV Version: 1.28.0 Command: rm -rf consensusOV.buildbin-libdir && mkdir consensusOV.buildbin-libdir && F:\biocbuild\bbs-3.20-bioc\R\bin\R.exe CMD INSTALL --build --library=consensusOV.buildbin-libdir consensusOV_1.28.0.tar.gz StartedAt: 2025-02-04 08:15:57 -0500 (Tue, 04 Feb 2025) EndedAt: 2025-02-04 08:17:03 -0500 (Tue, 04 Feb 2025) EllapsedTime: 65.9 seconds RetCode: 0 Status: OK PackageFile: consensusOV_1.28.0.zip PackageFileSize: 4.489 MiB