Package: consensusOV Version: 1.28.0 Command: chmod a+r consensusOV -R && F:\biocbuild\bbs-3.20-bioc\R\bin\R.exe CMD build --keep-empty-dirs --no-resave-data consensusOV StartedAt: 2025-02-03 18:20:34 -0500 (Mon, 03 Feb 2025) EndedAt: 2025-02-03 18:23:25 -0500 (Mon, 03 Feb 2025) EllapsedTime: 171.0 seconds RetCode: 0 Status: OK PackageFile: consensusOV_1.28.0.tar.gz PackageFileSize: 3.17 MiB