Package: consensusOV Version: 1.28.0 Command: /home/biocbuild/R/R/bin/R CMD build --keep-empty-dirs --no-resave-data consensusOV StartedAt: 2025-02-03 22:48:02 -0000 (Mon, 03 Feb 2025) EndedAt: 2025-02-03 22:50:56 -0000 (Mon, 03 Feb 2025) EllapsedTime: 174.0 seconds RetCode: 0 Status: OK PackageFile: consensusOV_1.28.0.tar.gz PackageFileSize: 3.226 MiB