Package: consensusSeekeR Version: 1.34.0 Command: /Library/Frameworks/R.framework/Resources/bin/R CMD INSTALL consensusSeekeR StartedAt: 2025-02-03 15:55:52 -0500 (Mon, 03 Feb 2025) EndedAt: 2025-02-03 15:56:27 -0500 (Mon, 03 Feb 2025) EllapsedTime: 35.5 seconds RetCode: 0 Status: OK