Package: consensusSeekeR Version: 1.34.0 Command: rm -rf consensusSeekeR.buildbin-libdir && mkdir consensusSeekeR.buildbin-libdir && F:\biocbuild\bbs-3.20-bioc\R\bin\R.exe CMD INSTALL --build --library=consensusSeekeR.buildbin-libdir consensusSeekeR_1.34.0.tar.gz StartedAt: 2025-02-04 08:16:03 -0500 (Tue, 04 Feb 2025) EndedAt: 2025-02-04 08:17:34 -0500 (Tue, 04 Feb 2025) EllapsedTime: 91.3 seconds RetCode: 0 Status: OK PackageFile: consensusSeekeR_1.34.0.zip PackageFileSize: 626.6 KiB