Package: consensusSeekeR Version: 1.34.0 Command: chmod a+r consensusSeekeR -R && F:\biocbuild\bbs-3.20-bioc\R\bin\R.exe CMD build --keep-empty-dirs --no-resave-data consensusSeekeR StartedAt: 2025-02-03 18:20:37 -0500 (Mon, 03 Feb 2025) EndedAt: 2025-02-03 18:23:20 -0500 (Mon, 03 Feb 2025) EllapsedTime: 162.5 seconds RetCode: 0 Status: OK PackageFile: consensusSeekeR_1.34.0.tar.gz PackageFileSize: 739.3 KiB