Package: conumee Version: 1.40.0 Command: /Library/Frameworks/R.framework/Resources/bin/R CMD build --keep-empty-dirs --no-resave-data conumee StartedAt: 2025-02-17 21:28:44 -0500 (Mon, 17 Feb 2025) EndedAt: 2025-02-17 21:38:34 -0500 (Mon, 17 Feb 2025) EllapsedTime: 590.2 seconds RetCode: 0 Status: OK PackageFile: conumee_1.40.0.tar.gz PackageFileSize: 1.782 <A href="http://en.wikipedia.org/wiki/MiB" target="_blank">MiB</A>