Package: conumee Version: 1.40.0 Command: /home/biocbuild/R/R/bin/R CMD check --install=check:conumee.install-out.txt --library=/home/biocbuild/R/R/site-library --no-vignettes --timings conumee_1.40.0.tar.gz StartedAt: 2025-02-04 05:54:06 -0000 (Tue, 04 Feb 2025) EndedAt: 2025-02-04 06:24:25 -0000 (Tue, 04 Feb 2025) EllapsedTime: 1818.7 seconds RetCode: 0 Status: OK CheckDir: conumee.Rcheck Warnings: 0