Package: convert Version: 1.82.0 Command: /Library/Frameworks/R.framework/Resources/bin/R CMD build --keep-empty-dirs --no-resave-data convert StartedAt: 2025-02-03 21:22:19 -0500 (Mon, 03 Feb 2025) EndedAt: 2025-02-03 21:22:30 -0500 (Mon, 03 Feb 2025) EllapsedTime: 11.1 seconds RetCode: 0 Status: OK PackageFile: convert_1.82.0.tar.gz PackageFileSize: 136.8 KiB