Package: convert Version: 1.82.0 Command: /Library/Frameworks/R.framework/Resources/bin/R CMD check --install=check:convert.install-out.txt --library=/Library/Frameworks/R.framework/Resources/library --no-vignettes --timings convert_1.82.0.tar.gz StartedAt: 2025-02-04 15:56:15 -0500 (Tue, 04 Feb 2025) EndedAt: 2025-02-04 15:56:52 -0500 (Tue, 04 Feb 2025) EllapsedTime: 37.4 seconds RetCode: 0 Status: OK CheckDir: convert.Rcheck Warnings: 0