Package: convert Version: 1.82.0 Command: /Library/Frameworks/R.framework/Resources/bin/R CMD INSTALL convert StartedAt: 2025-02-03 15:18:36 -0500 (Mon, 03 Feb 2025) EndedAt: 2025-02-03 15:18:41 -0500 (Mon, 03 Feb 2025) EllapsedTime: 4.9 seconds RetCode: 0 Status: OK