Package: copa
Version: 1.74.0
Command: /Library/Frameworks/R.framework/Resources/bin/R CMD check --install=check:copa.install-out.txt --library=/Library/Frameworks/R.framework/Resources/library --no-vignettes --timings copa_1.74.0.tar.gz
StartedAt: 2024-11-19 20:52:44 -0500 (Tue, 19 Nov 2024)
EndedAt: 2024-11-19 20:56:51 -0500 (Tue, 19 Nov 2024)
EllapsedTime: 247.2 seconds
RetCode: 0
Status: OK
CheckDir: copa.Rcheck
Warnings: 0