Package: copa Version: 1.74.0 Command: rm -rf copa.buildbin-libdir && mkdir copa.buildbin-libdir && F:\biocbuild\bbs-3.20-bioc\R\bin\R.exe CMD INSTALL --build --library=copa.buildbin-libdir copa_1.74.0.tar.gz StartedAt: 2025-02-04 08:16:22 -0500 (Tue, 04 Feb 2025) EndedAt: 2025-02-04 08:16:39 -0500 (Tue, 04 Feb 2025) EllapsedTime: 16.8 seconds RetCode: 0 Status: OK PackageFile: copa_1.74.0.zip PackageFileSize: 167 KiB