Package: copa Version: 1.74.0 Command: chmod a+r copa -R && F:\biocbuild\bbs-3.20-bioc\R\bin\R.exe CMD build --keep-empty-dirs --no-resave-data copa StartedAt: 2025-02-03 18:21:05 -0500 (Mon, 03 Feb 2025) EndedAt: 2025-02-03 18:21:24 -0500 (Mon, 03 Feb 2025) EllapsedTime: 19.5 seconds RetCode: 0 Status: OK PackageFile: copa_1.74.0.tar.gz PackageFileSize: 121.4 KiB