Package: corral Version: 1.16.0 Command: /Library/Frameworks/R.framework/Resources/bin/R CMD build --keep-empty-dirs --no-resave-data corral StartedAt: 2025-02-03 21:23:48 -0500 (Mon, 03 Feb 2025) EndedAt: 2025-02-03 21:42:47 -0500 (Mon, 03 Feb 2025) EllapsedTime: 1139.2 seconds RetCode: 0 Status: OK PackageFile: corral_1.16.0.tar.gz PackageFileSize: 2.057 MiB