Package: corral Version: 1.16.0 Command: /Library/Frameworks/R.framework/Resources/bin/R CMD check --install=check:corral.install-out.txt --library=/Library/Frameworks/R.framework/Resources/library --no-vignettes --timings corral_1.16.0.tar.gz StartedAt: 2025-02-04 15:58:44 -0500 (Tue, 04 Feb 2025) EndedAt: 2025-02-04 16:05:29 -0500 (Tue, 04 Feb 2025) EllapsedTime: 404.9 seconds RetCode: 0 Status: OK CheckDir: corral.Rcheck Warnings: 0