Package: coseq Version: 1.30.0 Command: /Library/Frameworks/R.framework/Resources/bin/R CMD build --keep-empty-dirs --no-resave-data coseq StartedAt: 2025-02-03 21:24:03 -0500 (Mon, 03 Feb 2025) EndedAt: 2025-02-03 21:28:44 -0500 (Mon, 03 Feb 2025) EllapsedTime: 281.3 seconds RetCode: 0 Status: OK PackageFile: coseq_1.30.0.tar.gz PackageFileSize: 1.844 MiB