Package: coseq Version: 1.30.0 Command: /Library/Frameworks/R.framework/Resources/bin/R CMD check --install=check:coseq.install-out.txt --library=/Library/Frameworks/R.framework/Resources/library --no-vignettes --timings coseq_1.30.0.tar.gz StartedAt: 2025-02-04 01:46:47 -0500 (Tue, 04 Feb 2025) EndedAt: 2025-02-04 01:55:09 -0500 (Tue, 04 Feb 2025) EllapsedTime: 502.6 seconds RetCode: 0 Status: OK CheckDir: coseq.Rcheck Warnings: 0