Package: coseq Version: 1.30.0 Command: rm -rf coseq.buildbin-libdir && mkdir coseq.buildbin-libdir && F:\biocbuild\bbs-3.20-bioc\R\bin\R.exe CMD INSTALL --build --library=coseq.buildbin-libdir coseq_1.30.0.tar.gz StartedAt: 2025-02-04 08:16:35 -0500 (Tue, 04 Feb 2025) EndedAt: 2025-02-04 08:17:28 -0500 (Tue, 04 Feb 2025) EllapsedTime: 53.0 seconds RetCode: 0 Status: OK PackageFile: coseq_1.30.0.zip PackageFileSize: 1.43 MiB