Package: coseq Version: 1.30.0 Command: chmod a+r coseq -R && F:\biocbuild\bbs-3.20-bioc\R\bin\R.exe CMD build --keep-empty-dirs --no-resave-data coseq StartedAt: 2025-02-03 18:22:30 -0500 (Mon, 03 Feb 2025) EndedAt: 2025-02-03 18:27:32 -0500 (Mon, 03 Feb 2025) EllapsedTime: 302.5 seconds RetCode: 0 Status: OK PackageFile: coseq_1.30.0.tar.gz PackageFileSize: 1.039 MiB