Package: cosmiq Version: 1.40.0 Command: rm -rf cosmiq.buildbin-libdir && mkdir cosmiq.buildbin-libdir && /Users/biocbuild/BBS/utils/build-universal.sh cosmiq_1.40.0.tar.gz /Library/Frameworks/R.framework/Resources/bin/R cosmiq.buildbin-libdir StartedAt: 2025-02-04 12:43:36 -0500 (Tue, 04 Feb 2025) EndedAt: 2025-02-04 12:45:07 -0500 (Tue, 04 Feb 2025) EllapsedTime: 91.7 seconds RetCode: 0 Status: OK PackageFile: cosmiq_1.40.0.tgz PackageFileSize: 291.1 KiB