Package: cosmiq Version: 1.40.0 Command: /home/biocbuild/bbs-3.20-bioc/R/bin/R CMD build --keep-empty-dirs --no-resave-data --md5 cosmiq StartedAt: 2025-02-03 16:59:07 -0500 (Mon, 03 Feb 2025) EndedAt: 2025-02-03 17:01:21 -0500 (Mon, 03 Feb 2025) EllapsedTime: 134.1 seconds RetCode: 0 Status: OK PackageFile: cosmiq_1.40.0.tar.gz PackageFileSize: 543 KiB