Package: cosmiq Version: 1.40.0 Command: /home/biocbuild/bbs-3.20-bioc/R/bin/R CMD check --install=check:cosmiq.install-out.txt --library=/home/biocbuild/bbs-3.20-bioc/R/site-library --timings cosmiq_1.40.0.tar.gz StartedAt: 2025-02-03 21:18:27 -0500 (Mon, 03 Feb 2025) EndedAt: 2025-02-03 21:25:23 -0500 (Mon, 03 Feb 2025) EllapsedTime: 416.4 seconds RetCode: 0 Status: OK CheckDir: cosmiq.Rcheck Warnings: 0