Package: cosmiq
Version: 1.39.0
Command: rm -rf cosmiq.buildbin-libdir && mkdir cosmiq.buildbin-libdir && F:\biocbuild\bbs-3.20-bioc\R\bin\R.exe CMD INSTALL --build --library=cosmiq.buildbin-libdir cosmiq_1.39.0.tar.gz
StartedAt: 2024-06-10 13:16:39 -0400 (Mon, 10 Jun 2024)
EndedAt: 2024-06-10 13:18:30 -0400 (Mon, 10 Jun 2024)
EllapsedTime: 111.6 seconds
RetCode: 0
Status: OK
PackageFile: cosmiq_1.39.0.zip
PackageFileSize: 298.9 <A href="http://en.wikipedia.org/wiki/KiB" target="_blank">KiB</A>