Package: cosmiq Version: 1.40.0 Command: F:\biocbuild\bbs-3.20-bioc\R\bin\R.exe CMD INSTALL cosmiq StartedAt: 2025-02-03 17:11:56 -0500 (Mon, 03 Feb 2025) EndedAt: 2025-02-03 17:12:41 -0500 (Mon, 03 Feb 2025) EllapsedTime: 45.5 seconds RetCode: 0 Status: OK