Package: cosmiq Version: 1.40.0 Command: /home/biocbuild/R/R/bin/R CMD build --keep-empty-dirs --no-resave-data cosmiq StartedAt: 2025-02-03 22:51:31 -0000 (Mon, 03 Feb 2025) EndedAt: 2025-02-03 22:54:13 -0000 (Mon, 03 Feb 2025) EllapsedTime: 162.1 seconds RetCode: 0 Status: OK PackageFile: cosmiq_1.40.0.tar.gz PackageFileSize: 535 KiB