Package: cosmosR Version: 1.14.0 Command: /Library/Frameworks/R.framework/Resources/bin/R CMD build --keep-empty-dirs --no-resave-data cosmosR StartedAt: 2025-02-03 21:27:26 -0500 (Mon, 03 Feb 2025) EndedAt: 2025-02-03 21:27:49 -0500 (Mon, 03 Feb 2025) EllapsedTime: 22.5 seconds RetCode: 0 Status: OK PackageFile: cosmosR_1.14.0.tar.gz PackageFileSize: 3.365 MiB