Package: cosmosR Version: 1.14.0 Command: /Library/Frameworks/R.framework/Resources/bin/R CMD INSTALL cosmosR StartedAt: 2025-02-03 16:30:31 -0500 (Mon, 03 Feb 2025) EndedAt: 2025-02-03 16:30:41 -0500 (Mon, 03 Feb 2025) EllapsedTime: 9.5 seconds RetCode: 0 Status: OK