Package: cosmosR Version: 1.14.0 Command: /home/biocbuild/bbs-3.20-bioc/R/bin/R CMD INSTALL cosmosR StartedAt: 2025-02-03 15:38:54 -0500 (Mon, 03 Feb 2025) EndedAt: 2025-02-03 15:39:02 -0500 (Mon, 03 Feb 2025) EllapsedTime: 7.9 seconds RetCode: 0 Status: OK