Package: cosmosR
Version: 1.13.0
Command: rm -rf cosmosR.buildbin-libdir && mkdir cosmosR.buildbin-libdir && F:\biocbuild\bbs-3.20-bioc\R\bin\R.exe CMD INSTALL --build --library=cosmosR.buildbin-libdir cosmosR_1.13.0.tar.gz
StartedAt: 2024-06-10 13:16:42 -0400 (Mon, 10 Jun 2024)
EndedAt: 2024-06-10 13:17:44 -0400 (Mon, 10 Jun 2024)
EllapsedTime: 61.8 seconds
RetCode: 0
Status: OK
PackageFile: cosmosR_1.13.0.zip
PackageFileSize: 3.452 <A href="http://en.wikipedia.org/wiki/MiB" target="_blank">MiB</A>