Package: cosmosR Version: 1.14.0 Command: /home/biocbuild/R/R/bin/R CMD build --keep-empty-dirs --no-resave-data cosmosR StartedAt: 2025-02-03 22:51:33 -0000 (Mon, 03 Feb 2025) EndedAt: 2025-02-03 22:51:56 -0000 (Mon, 03 Feb 2025) EllapsedTime: 23.0 seconds RetCode: 0 Status: OK PackageFile: cosmosR_1.14.0.tar.gz PackageFileSize: 3.473 MiB