Package: cosmosR Version: 1.14.0 Command: /home/biocbuild/R/R/bin/R CMD INSTALL cosmosR StartedAt: 2025-02-03 20:53:21 -0000 (Mon, 03 Feb 2025) EndedAt: 2025-02-03 20:53:31 -0000 (Mon, 03 Feb 2025) EllapsedTime: 9.5 seconds RetCode: 0 Status: OK