Package: covEB
Version: 1.32.0
Command: /Library/Frameworks/R.framework/Resources/bin/R CMD check --install=check:covEB.install-out.txt --library=/Library/Frameworks/R.framework/Resources/library --no-vignettes --timings covEB_1.32.0.tar.gz
StartedAt: 2024-11-19 20:55:56 -0500 (Tue, 19 Nov 2024)
EndedAt: 2024-11-19 21:00:24 -0500 (Tue, 19 Nov 2024)
EllapsedTime: 268.0 seconds
RetCode: 0
Status: OK
CheckDir: covEB.Rcheck
Warnings: 0