Package: covEB
Version: 1.32.0
Command: rm -rf covEB.buildbin-libdir && mkdir covEB.buildbin-libdir && /Users/biocbuild/BBS/utils/build-universal.sh covEB_1.32.0.tar.gz /Library/Frameworks/R.framework/Resources/bin/R covEB.buildbin-libdir
StartedAt: 2025-02-18 11:57:58 -0500 (Tue, 18 Feb 2025)
EndedAt: 2025-02-18 11:58:13 -0500 (Tue, 18 Feb 2025)
EllapsedTime: 15.8 seconds
RetCode: 0
Status: OK
PackageFile: covEB_1.32.0.tgz
PackageFileSize: 149.5 <A href="http://en.wikipedia.org/wiki/KiB" target="_blank">KiB</A>