Package: covEB Version: 1.32.0 Command: F:\biocbuild\bbs-3.20-bioc\R\bin\R.exe CMD check --no-multiarch --install=check:covEB.install-out.txt --library=F:\biocbuild\bbs-3.20-bioc\R\library --no-vignettes --timings covEB_1.32.0.tar.gz StartedAt: 2025-02-04 00:40:57 -0500 (Tue, 04 Feb 2025) EndedAt: 2025-02-04 00:41:55 -0500 (Tue, 04 Feb 2025) EllapsedTime: 58.2 seconds RetCode: 0 Status: OK CheckDir: covEB.Rcheck Warnings: 0