Package: covRNA Version: 1.32.0 Command: /Library/Frameworks/R.framework/Resources/bin/R CMD INSTALL covRNA StartedAt: 2025-02-03 17:07:36 -0500 (Mon, 03 Feb 2025) EndedAt: 2025-02-03 17:07:57 -0500 (Mon, 03 Feb 2025) EllapsedTime: 21.1 seconds RetCode: 0 Status: OK