Package: covRNA Version: 1.32.0 Command: /home/biocbuild/bbs-3.20-bioc/R/bin/R CMD build --keep-empty-dirs --no-resave-data --md5 covRNA StartedAt: 2025-02-03 17:00:03 -0500 (Mon, 03 Feb 2025) EndedAt: 2025-02-03 17:00:47 -0500 (Mon, 03 Feb 2025) EllapsedTime: 44.0 seconds RetCode: 0 Status: OK PackageFile: covRNA_1.32.0.tar.gz PackageFileSize: 567 KiB