Package: covRNA Version: 1.32.0 Command: /home/biocbuild/bbs-3.20-bioc/R/bin/R CMD INSTALL covRNA StartedAt: 2025-02-03 15:50:19 -0500 (Mon, 03 Feb 2025) EndedAt: 2025-02-03 15:50:38 -0500 (Mon, 03 Feb 2025) EllapsedTime: 19.2 seconds RetCode: 0 Status: OK