Package: covRNA
Version: 1.31.0
Command: chmod a+r covRNA -R && C:\Users\biocbuild\bbs-3.20-bioc\R\bin\R.exe CMD build --keep-empty-dirs --no-resave-data covRNA
StartedAt: 2024-07-15 17:18:24 -0400 (Mon, 15 Jul 2024)
EndedAt: 2024-07-15 17:19:40 -0400 (Mon, 15 Jul 2024)
EllapsedTime: 76.4 seconds
RetCode: 0
Status: OK
PackageFile: covRNA_1.31.0.tar.gz
PackageFileSize: 519.6 <A href="http://en.wikipedia.org/wiki/KiB" target="_blank">KiB</A>