Package: covRNA Version: 1.32.0 Command: rm -rf covRNA.buildbin-libdir && mkdir covRNA.buildbin-libdir && F:\biocbuild\bbs-3.20-bioc\R\bin\R.exe CMD INSTALL --build --library=covRNA.buildbin-libdir covRNA_1.32.0.tar.gz StartedAt: 2025-02-04 08:16:56 -0500 (Tue, 04 Feb 2025) EndedAt: 2025-02-04 08:17:16 -0500 (Tue, 04 Feb 2025) EllapsedTime: 20.0 seconds RetCode: 0 Status: OK PackageFile: covRNA_1.32.0.zip PackageFileSize: 560.5 KiB